BEGIN:VCALENDAR
VERSION:2.0
PRODID:-//Sweet Briar Farm - ECPv6.15.20//NONSGML v1.0//EN
CALSCALE:GREGORIAN
METHOD:PUBLISH
X-WR-CALNAME:Sweet Briar Farm
X-ORIGINAL-URL:https://sweetbriarfarm.com
X-WR-CALDESC:Events for Sweet Briar Farm
REFRESH-INTERVAL;VALUE=DURATION:PT1H
X-Robots-Tag:noindex
X-PUBLISHED-TTL:PT1H
BEGIN:VTIMEZONE
TZID:America/Chicago
BEGIN:DAYLIGHT
TZOFFSETFROM:-0600
TZOFFSETTO:-0500
TZNAME:CDT
DTSTART:20200308T080000
END:DAYLIGHT
BEGIN:STANDARD
TZOFFSETFROM:-0500
TZOFFSETTO:-0600
TZNAME:CST
DTSTART:20201101T070000
END:STANDARD
BEGIN:DAYLIGHT
TZOFFSETFROM:-0600
TZOFFSETTO:-0500
TZNAME:CDT
DTSTART:20210314T080000
END:DAYLIGHT
BEGIN:STANDARD
TZOFFSETFROM:-0500
TZOFFSETTO:-0600
TZNAME:CST
DTSTART:20211107T070000
END:STANDARD
BEGIN:DAYLIGHT
TZOFFSETFROM:-0600
TZOFFSETTO:-0500
TZNAME:CDT
DTSTART:20220313T080000
END:DAYLIGHT
BEGIN:STANDARD
TZOFFSETFROM:-0500
TZOFFSETTO:-0600
TZNAME:CST
DTSTART:20221106T070000
END:STANDARD
END:VTIMEZONE
BEGIN:VEVENT
DTSTART;TZID=America/Chicago:20210618T180000
DTEND;TZID=America/Chicago:20210618T210000
DTSTAMP:20260421T042921
CREATED:20210130T150926Z
LAST-MODIFIED:20210130T150926Z
UID:209874-1624039200-1624050000@sweetbriarfarm.com
SUMMARY:Fuller-O’Bryant Rehearsal
DESCRIPTION:
URL:https://sweetbriarfarm.com/event/fuller-obryant-rehearsal/
LOCATION:Sweet Briar Farm\, 357 County Rd.\, Linden\, TX\, 75563\, United States
END:VEVENT
END:VCALENDAR