BEGIN:VCALENDAR
VERSION:2.0
PRODID:-//Sweet Briar Farm - ECPv6.15.20//NONSGML v1.0//EN
CALSCALE:GREGORIAN
METHOD:PUBLISH
X-WR-CALNAME:Sweet Briar Farm
X-ORIGINAL-URL:https://sweetbriarfarm.com
X-WR-CALDESC:Events for Sweet Briar Farm
REFRESH-INTERVAL;VALUE=DURATION:PT1H
X-Robots-Tag:noindex
X-PUBLISHED-TTL:PT1H
BEGIN:VTIMEZONE
TZID:America/Chicago
BEGIN:DAYLIGHT
TZOFFSETFROM:-0600
TZOFFSETTO:-0500
TZNAME:CDT
DTSTART:20220313T080000
END:DAYLIGHT
BEGIN:STANDARD
TZOFFSETFROM:-0500
TZOFFSETTO:-0600
TZNAME:CST
DTSTART:20221106T070000
END:STANDARD
BEGIN:DAYLIGHT
TZOFFSETFROM:-0600
TZOFFSETTO:-0500
TZNAME:CDT
DTSTART:20230312T080000
END:DAYLIGHT
BEGIN:STANDARD
TZOFFSETFROM:-0500
TZOFFSETTO:-0600
TZNAME:CST
DTSTART:20231105T070000
END:STANDARD
BEGIN:DAYLIGHT
TZOFFSETFROM:-0600
TZOFFSETTO:-0500
TZNAME:CDT
DTSTART:20240310T080000
END:DAYLIGHT
BEGIN:STANDARD
TZOFFSETFROM:-0500
TZOFFSETTO:-0600
TZNAME:CST
DTSTART:20241103T070000
END:STANDARD
END:VTIMEZONE
BEGIN:VEVENT
DTSTART;VALUE=DATE:20230909
DTEND;VALUE=DATE:20230910
DTSTAMP:20260419T083657
CREATED:20230727T190422Z
LAST-MODIFIED:20230727T190422Z
UID:210549-1694217600-1694303999@sweetbriarfarm.com
SUMMARY:Private party
DESCRIPTION:
URL:https://sweetbriarfarm.com/event/private-party-9/
LOCATION:Sweet Briar Farm\, 357 County Rd.\, Linden\, TX\, 75563\, United States
END:VEVENT
BEGIN:VEVENT
DTSTART;TZID=America/Chicago:20230910T120000
DTEND;TZID=America/Chicago:20230910T180000
DTSTAMP:20260419T083657
CREATED:20230822T163337Z
LAST-MODIFIED:20230822T163337Z
UID:210569-1694347200-1694368800@sweetbriarfarm.com
SUMMARY:Heldt-Coats Wedding
DESCRIPTION:
URL:https://sweetbriarfarm.com/event/heldt-coats-wedding/
LOCATION:Sweet Briar Farm\, 357 County Rd.\, Linden\, TX\, 75563\, United States
END:VEVENT
BEGIN:VEVENT
DTSTART;VALUE=DATE:20230916
DTEND;VALUE=DATE:20230917
DTSTAMP:20260419T083657
CREATED:20230421T135400Z
LAST-MODIFIED:20230621T201402Z
UID:210518-1694822400-1694908799@sweetbriarfarm.com
SUMMARY:1978 Class Reunion
DESCRIPTION:
URL:https://sweetbriarfarm.com/event/finney-wedding/
LOCATION:Sweet Briar Farm\, 357 County Rd.\, Linden\, TX\, 75563\, United States
END:VEVENT
BEGIN:VEVENT
DTSTART;TZID=America/Chicago:20230917T130000
DTEND;TZID=America/Chicago:20230917T160000
DTSTAMP:20260419T083657
CREATED:20230822T163228Z
LAST-MODIFIED:20230822T163228Z
UID:210567-1694955600-1694966400@sweetbriarfarm.com
SUMMARY:Celebration of Life for Carol Ray
DESCRIPTION:
URL:https://sweetbriarfarm.com/event/celebration-of-life-for-carol-ray/
LOCATION:Sweet Briar Farm\, 357 County Rd.\, Linden\, TX\, 75563\, United States
END:VEVENT
BEGIN:VEVENT
DTSTART;TZID=America/Chicago:20230923T183000
DTEND;TZID=America/Chicago:20230923T230000
DTSTAMP:20260419T083658
CREATED:20220819T200748Z
LAST-MODIFIED:20230621T201627Z
UID:210365-1695493800-1695510000@sweetbriarfarm.com
SUMMARY:L-K Class of 2003 Reunion
DESCRIPTION:
URL:https://sweetbriarfarm.com/event/l-k-class-of-1978-reunion-45/
LOCATION:Sweet Briar Farm\, 357 County Rd.\, Linden\, TX\, 75563\, United States
END:VEVENT
BEGIN:VEVENT
DTSTART;TZID=America/Chicago:20230930T180000
DTEND;TZID=America/Chicago:20230930T230000
DTSTAMP:20260419T083658
CREATED:20230123T202702Z
LAST-MODIFIED:20230123T202702Z
UID:210470-1696096800-1696114800@sweetbriarfarm.com
SUMMARY:Christus Hospital Foundation Gala
DESCRIPTION:
URL:https://sweetbriarfarm.com/event/christus-hospital-foundation-gala/
LOCATION:Sweet Briar Farm\, 357 County Rd.\, Linden\, TX\, 75563\, United States
END:VEVENT
END:VCALENDAR